BEGIN:VCALENDAR
VERSION:2.0
PRODID:-//ChamberMaster//Event Calendar 2.0//EN
METHOD:PUBLISH
X-PUBLISHED-TTL:P1H
REFRESH-INTERVAL:P1H
CALSCALE:GREGORIAN
BEGIN:VTIMEZONE
TZID:America/New_York
BEGIN:DAYLIGHT
RRULE:FREQ=YEARLY;BYMONTH=3;BYDAY=2SU
DTSTART:20070101T000000
TZOFFSETFROM:-0500
TZOFFSETTO:-0400
TZNAME:Eastern Daylight Time
END:DAYLIGHT
BEGIN:STANDARD
RRULE:FREQ=YEARLY;BYMONTH=11;BYDAY=1SU
DTSTART:20070101T000000
TZOFFSETFROM:-0400
TZOFFSETTO:-0500
TZNAME:Eastern Standard Time
END:STANDARD
END:VTIMEZONE
BEGIN:VEVENT
DTSTART;TZID=America/New_York:20260511T103000
DTEND;TZID=America/New_York:20260511T170000
X-MICROSOFT-CDO-ALLDAYEVENT:FALSE
SUMMARY:2026 Hamrick Cup
DESCRIPTION:Host Superintendent: Sean Baskette\nRegistration: 10:30 AM\nShotgun: 12:00 PM\n2-Man Texas Scramble
X-ALT-DESC;FMTTYPE=text/html:<!DOCTYPE html><html><head><title></title></head><body aria-disabled="false"><p>Host Superintendent: Sean Baskette<br>Registration: 10:30 AM<br>Shotgun: 12:00 PM<br>2-Man Texas Scramble</p></body></html>
LOCATION:170 Windsor Rd Asheville NC 28804
UID:e.3811.1445717
SEQUENCE:3
DTSTAMP:20260423T142226Z
URL:https://members.carolinasgcsa.org/eventcalendar/Details/2026-hamrick-cup-1712372?sourceTypeId=Hub
END:VEVENT
END:VCALENDAR
